BEGIN:VCALENDAR
VERSION:2.0
PRODID:-//Le Cool  Agenda Barcelona - ECPv6.3.2//NONSGML v1.0//EN
CALSCALE:GREGORIAN
METHOD:PUBLISH
X-WR-CALNAME:Le Cool  Agenda Barcelona
X-ORIGINAL-URL:https://barcelona.lecool.com
X-WR-CALDESC:Eventos para Le Cool  Agenda Barcelona
REFRESH-INTERVAL;VALUE=DURATION:PT1H
X-Robots-Tag:noindex
X-PUBLISHED-TTL:PT1H
BEGIN:VTIMEZONE
TZID:Europe/Madrid
BEGIN:DAYLIGHT
TZOFFSETFROM:+0100
TZOFFSETTO:+0200
TZNAME:CEST
DTSTART:20260329T010000
END:DAYLIGHT
BEGIN:STANDARD
TZOFFSETFROM:+0200
TZOFFSETTO:+0100
TZNAME:CET
DTSTART:20261025T010000
END:STANDARD
END:VTIMEZONE
BEGIN:VEVENT
DTSTART;TZID=Europe/Madrid:20260206T080000
DTEND;TZID=Europe/Madrid:20260206T233000
DTSTAMP:20260419T171207
CREATED:20260202T001852Z
LAST-MODIFIED:20260202T235539Z
UID:209886-1770364800-1770420600@barcelona.lecool.com
SUMMARY:McEnroe
DESCRIPTION:Cuando me instalé en Barcelona y dejé el país vecino\, mi cultura musical nacional se limitaba a Mecano y poco más. Siempre recordaré con mucho cariño a todas las personas que me hicieron descubrir hace dos décadas las joyas de la escena independiente nacional. En concreto\, a una amiga de la época me hizo escuchar el álbum Tú Nunca Morirás de McEnroe. Hoy\, la canción «Los Valientes» sigue resonando en mí con la misma potencia. \nLo de McEnroe se llama música como se puede llamar poesía. La banda vasca siempre ha brillado por sus melodías minimalistas\, su estilo emocional y sus letras introspectivas que convierten la melancolía en belleza. El año pasado sacaron su sexto LP La Vida Libre\, una oda a la nostalgia\, el amor\, la esperanza\, los recuerdos. Reflexionan en música sobre el viaje de sus vidas estos años y todos esos momentos vividos\, algunos juntos y otros más individuales. El disco se grabó en Cantabria\, se produjo en Donosti y se mezcló en Granada\, realizando también\, como cada uno de los miembros de la banda\, su propio viaje. \nEste viernes\, harán una escala en el Razzmatazz 2 para compartir con nosotros la justa ambición que tienen sobre la vida libre. Se anuncia una velada maravillosa con una banda de culto.
URL:https://barcelona.lecool.com/eventos/mcenroe-25/
CATEGORIES:Concierto
ATTACH;FMTTYPE=image/webp:https://barcelona.lecool.com/wp-content/uploads/2026/01/mcenroe-e1769991482186.webp
END:VEVENT
BEGIN:VEVENT
DTSTART;TZID=Europe/Madrid:20260207T080000
DTEND;TZID=Europe/Madrid:20260208T230000
DTSTAMP:20260419T171207
CREATED:20260205T152147Z
LAST-MODIFIED:20260205T152147Z
UID:209966-1770451200-1770591600@barcelona.lecool.com
SUMMARY:Anna Andreu y Nil Ciuró: Dido & Eneas
DESCRIPTION:Si buscas una experiencia musical que se sitúe entre la poesía sonora y la reinvención creativa\, el concierto del ciclo Sit Back: Dido & Eneas en L’Auditori es tu plan de este finde. Más que un concierto\, podríamos decir que será una travesía íntima por un mito que ha inspirado a cientos de generaciones desde el Barroco\, reinterpretado aquí con una sensibilidad contemporánea. \nLa velada se despliega en dos actos. La primera parte\, a cargo de Anna Andreu\, toma la esencia de Dido & Aeneas de Henry Purcell y la transforma a través de su voz cálida\, su guitarra y un conjunto de cuerdas que van de lo folk a lo emocional. Anna Andreu convierte la tragedia de la reina de Cartago en una intimidad compartida\, donde la música parece surgir desde dentro antes que sonar hacia fuera. \nEn la segunda parte\, Nil Ciuró n0s ofrecerá una mirada más abstracta. Su interpretación está basada en sintetizadores y piano\, acompañado además por la soprano Montserrat Seró\, para tejer paisajes sonoros que fluctúan entre lo electrónico y lo acústico. \nBienvenido a una invitación a escuchar con calma\, a sentir la tragedia y la belleza del mito desde una nueva perspectiva. Si te atrae la música que explora los límites entre épocas\, lenguajes y emociones\, este viaje musical vale la pena. ¡Nos vemos en L’Auditori!
URL:https://barcelona.lecool.com/eventos/anna-andreu-y-nil-ciuro-dido-eneas/
CATEGORIES:Concierto
ATTACH;FMTTYPE=image/jpeg:https://barcelona.lecool.com/wp-content/uploads/2026/02/Imatge-DidoAeneas_2000x1125.jpg
END:VEVENT
BEGIN:VEVENT
DTSTART;TZID=Europe/Madrid:20260208T183000
DTEND;TZID=Europe/Madrid:20260208T203000
DTSTAMP:20260419T171207
CREATED:20260129T182048Z
LAST-MODIFIED:20260129T182952Z
UID:209850-1770575400-1770582600@barcelona.lecool.com
SUMMARY:Toon Story
DESCRIPTION:Film Symphony Orchestra vuelve a Barcelona con Toon Story\, un espectáculo que cruza la música sinfónica con los grandes himnos del cine de animación. De esos que te hacen sonreír por dentro y\, de paso\, te activan la memoria emocional en modo “yo esto me lo sé”. \nBajo la batuta de Constantino Martínez-Orts\, la orquesta propone un viaje por bandas sonoras que han marcado a varias generaciones: desde Toy Story\, El Rey León o La Bella y la Bestia a Cómo entrenar a tu dragón\, Kung Fu Panda\, Monstruos S.A.\, Los Increíbles o Pocahontas. Y aún hay hueco para títulos que elevan el factor nostalgia y diversión\, como Shrek\, Aladdin\, Ice Age\, Chicken Run\, Tom y Jerry o Anastasia\, entre otros. \nLa gracia es que no es solo un concierto: hay una puesta en escena con luz\, color y ritmo\, y los comentarios divulgativos de Martínez-Orts\, con humor y curiosidades\, que te meten en la trastienda de cada pieza sin ponerse intensos. Sales habiendo disfrutado y entendiendo un poco más por qué esa música funciona tan bien. \nEn el escenario\, más de 70 artistas entre músicos y voces para convertir temas míticos en una experiencia grande\, familiar y bastante irresistible. Reserva ya tu entrada y ven a vivir la animación como se merece\, con la orquesta a pleno pulmón. Nos vemos allí. \n \n 
URL:https://barcelona.lecool.com/eventos/toon-story/
CATEGORIES:Concierto
ATTACH;FMTTYPE=image/jpeg:https://barcelona.lecool.com/wp-content/uploads/2026/01/7-scaled-e1769702710215.jpg
END:VEVENT
BEGIN:VEVENT
DTSTART;TZID=Europe/Madrid:20260211T080000
DTEND;TZID=Europe/Madrid:20260211T233000
DTSTAMP:20260419T171207
CREATED:20260202T160526Z
LAST-MODIFIED:20260202T160526Z
UID:209882-1770796800-1770852600@barcelona.lecool.com
SUMMARY:The Last Dinner Party
DESCRIPTION:The Last Dinner Party irrumpieron en la escena rock en 2023 como un soplo de aire fresco que nadie esperaba\, pero que todas necesitábamos. Cinco mujeres magnéticas y teatrales\, capaces de apoderarse de cualquier escenario que se les ponga por delante. Lanzaron el sencillo “Nothing Matters” como una auténtica bomba de art-rock y con él\, conquistaron tanto a la crítica como al público internacional. Su álbum debut\, Prelude to Ecstasy\, es una colección de hits en la que cada tema supera al anterior y posee identidad propia. Canciones como “The Femininine Urge”\, “Sinner”\, “On Your Side” or “Beautiful Boy” son diamantes en bruto: una mezcla de rock barroco con un irreverente toque punk. \nSu éxito las llevo a estrenarse en grandes festivales internacionales\, como en el Primavera Sound en 2024. Al frente de la banda está Abigail Morris\, cuya personalidad combina la calidad vocal de Kate Bush y la elegancia de Florence Welch. La banda encantará a fans de Chappell Roan\, David Bowie\, St. Vincent o Queen. \nCuando la primera propuesta de una banda alcanza tal nivel de éxito\, el escepticismo sobre su futuro es inevitable. Si esto era solo el preludio\, ¿llegará el éxtasis con su segundo LP? El listón estaba altísimo\, pero la banda británica confirmó con su recién estrenado From the Pyre que han llegado para quedarse. No son un producto comercial al estilo girl band\, ni una moda pasajera. De hecho\, tienen todas las cartas para convertirse en una de las propuestas más relevantes de la nueva escena rock. \nDespués de arrasar con su energía y carisma en los festivales\, podremos verlas en directo este miércoles en la Sala Razzmatzz\, que se transformará en el escenario de un teatro rockero y barroco. Empoderamiento femenino al ritmo de riffs de guitarras eléctricas. Sin duda\, uno de los conciertos más prometedores del año.
URL:https://barcelona.lecool.com/eventos/the-last-dinner-party/
CATEGORIES:Concierto
ATTACH;FMTTYPE=image/jpeg:https://barcelona.lecool.com/wp-content/uploads/2026/01/TLDP-e1769993285110.jpg
END:VEVENT
BEGIN:VEVENT
DTSTART;TZID=Europe/Madrid:20260213T080000
DTEND;TZID=Europe/Madrid:20260213T170000
DTSTAMP:20260419T171207
CREATED:20260209T184534Z
LAST-MODIFIED:20260209T184534Z
UID:209970-1770969600-1771002000@barcelona.lecool.com
SUMMARY:RAYE
DESCRIPTION:En estos días todos hemos oído hablar de los Grammy y del merecidísimo triunfo de Bad Bunny\, una prueba más de que la música no es solo entretenimiento\, sino también un motor de cambio social y cultural. Tan cierto es que los propios Grammy cuentan con un premio dedicado a ello: el de la Mejor Canción para el Cambio Social. Este año la ganadora ha sido la cantante y compositora británica RAYE por su canción “Ice Cream Man”\, un relato crudo e impactante sobre el abuso sexual\, especialmente en el mundo de la industria musical. \nLa canción es una de las múltiples joyas de su primer álbum de estudio My 21st Century Blues publicado en 2023 y que\, por cierto\, arrasó en los Brit Awards de 2024. La historia de RAYE dista mucho de un cuento de hadas y de una fama instantánea. Tras años de trabajo y una resiliencia inagotable\, logró publicar su disco de manera independiente\, superando la frustración y los reiterados rechazos de su propia discográfica. Su trayectoria en la música se remonta a principios de la década de 2010\, apareciendo como intérprete en éxitos dance junto a artistas como David Guetta o Martin Solveig\, y como compositora para grandes nombres de la industria\, entre ellos Charlie XCX o Beyoncé. \nGracias a esa perseverancia\, hoy tenemos la suerte de descubrir a una artista talentosa y única. Su estilo fusiona jazz\, pop\, R&B y soul: un híbrido entre Amy Winehouse y Doja Cat\, con una voz espectacular\, un ritmo inconfundible y letras cargadas de significado\, todo envuelto en un glamour resplandeciente. Este viernes\, no cabe duda de que RAYE conquistará el Palau Sant Jordi. Durante la velada le acompañarán invitadas especiales como Absolutely y Amma. ¡Cuántas ganas tenemos de bailar al ritmo de “Where is my husband”!
URL:https://barcelona.lecool.com/eventos/raye/
CATEGORIES:Concierto
ATTACH;FMTTYPE=image/webp:https://barcelona.lecool.com/wp-content/uploads/2026/02/ac2600ff-a1e7-401b-beb9-27dd6d5631a1.jpg-e1770661979571.webp
END:VEVENT
BEGIN:VEVENT
DTSTART;TZID=Europe/Madrid:20260214T070000
DTEND;TZID=Europe/Madrid:20260214T230000
DTSTAMP:20260419T171207
CREATED:20260128T144217Z
LAST-MODIFIED:20260128T144217Z
UID:209841-1771052400-1771110000@barcelona.lecool.com
SUMMARY:Nathy Peluso
DESCRIPTION:¡Escandaloso\, icónico e irreverente\, llega el show más esperado para amantes y seguidores de la música latina! Nathy Peluso\, cerrando su mítico Grasa Tour\, se presentará en el Palau Sant Jordi el sábado 14 de febrero a las 21h. \nCantante\, rapera y compositora argentina radicada en España\, esta perra sorprendente\, curvilínea\, elocuente y magníficamente colosal viene sacudiendo la escena musical contemporánea con sus himnos al empoderamiento\, su estilo inclasificable y su presencia escénica cautivadora. Desde su álbum debut Calambre en 2020\, la artista ya se alzó con múltiples premios\, entre ellos 5 Latin Grammy’s y 4 Premios de la Academia de la Música. En 2024 lanzó Grasa\, una pieza ambiciosa y visceral donde conviven rap\, salsa\, baladas y ritmos tropicales\, con un imaginario que dialoga con el cine de mafias y la salsa neoyorquina de los años 70. El disco incluye colaboraciones de alto voltaje con artistas como Blood Orange\, Duki\, C. Tangana\, Ca7riel y Paco Amoroso. \nLas letras de sus canciones son territorio de afirmación y juego de poder: femmes fatales irónicas y descaradas que desean sin culpa son las protagonistas de su mitología pop. En su EP Malportada (2025)\, homenaje declarado a la salsa\, la artista reinventa el género con picardía\, elegancia incendiaria y se corona como la zandunguera: la que te zarandea el cuerpo y el espíritu. \nDurante 2024 y 2025\, el Grasa Tour recorrió escenarios de todo el mundo con entradas agotadas\, confirmando su impacto global. Ahora\, Barcelona se suma a la celebración. Las bendiciones han sido derramadas\, ¿iréis a recibirlas?
URL:https://barcelona.lecool.com/eventos/nathy-peluso-26/
LOCATION:Palau Sant Jordi\, Passeig Olímpic\, 5\, Sants-Montjuïc\, 08038 Barcelona\, Barcelona\, Barcelona\, 08038\, Spain
CATEGORIES:Concierto
ATTACH;FMTTYPE=image/webp:https://barcelona.lecool.com/wp-content/uploads/2026/01/nathy-peluso-morrina-festival-coruna_104.webp
END:VEVENT
BEGIN:VEVENT
DTSTART;TZID=Europe/Madrid:20260218T000000
DTEND;TZID=Europe/Madrid:20260218T000000
DTSTAMP:20260419T171207
CREATED:20260224T180725Z
LAST-MODIFIED:20260224T181516Z
UID:210079-1771372800-1771372800@barcelona.lecool.com
SUMMARY:GoGo Penguin
DESCRIPTION:Este miércoles L’Auditori de Barcelona se llenará de pulsos\, melodías líquidas y atmósferas cautivadoras con el concierto del trío británico GoGo Penguin: Necessary Fictions. Esta formación de Manchester ha sido una de las voces más originales en la escena instrumental contemporánea\, combinando la libertad del jazz con la energía de la electrónica y la precisión de la música mínima\, para crear un sonido distintivo que trasciende etiquetas. \nEn escena\, el diálogo entre piano\, contrabajo y batería será puro engranaje emocional. El piano de Chris Illingworth dibuja melodías que avanzan como corrientes subterráneas; el bajo de Nick Blacka sostiene y empuja; la batería de Jon Scott respira y tensiona el espacio. No es jazz al uso\, ni electrónica convencional: es una arquitectura sonora en movimiento constante. En Necessary Fictions\, el trío amplía su paleta con sintetizadores y nuevas texturas\, sin perder la esencia acústica que los ha convertido en referente internacional. \nEscuchar a GoGo Penguin en la Sala Pau Casals de L’Auditori será una experiencia inmersiva\, perfecta para quienes buscan música instrumental con narrativa\, tensión y profundidad. Un concierto para dejarse llevar por el ritmo y salir con la sensación de haber viajado lejos sin moverse de la butaca. Si eres amante del jazz\, bienvenido a una de las citas imprescindibles de la temporada. \n//foto de Mark Gregson
URL:https://barcelona.lecool.com/eventos/gogo-penguin/
CATEGORIES:Concierto
ATTACH;FMTTYPE=image/jpeg:https://barcelona.lecool.com/wp-content/uploads/2026/02/image.jpg
END:VEVENT
BEGIN:VEVENT
DTSTART;TZID=Europe/Madrid:20260220T080000
DTEND;TZID=Europe/Madrid:20260220T233000
DTSTAMP:20260419T171207
CREATED:20260217T014114Z
LAST-MODIFIED:20260217T014114Z
UID:210055-1771574400-1771630200@barcelona.lecool.com
SUMMARY:Stavroz
DESCRIPTION:De la escena electrónica belga han surgido grandes nombres como Amelie Lens\, Charlotte de Witte y Soulwax. Por lo tanto\, no sorprende que desde Bélgica vuelva a llegarnos una propuesta imprescindible de conocer. Stavroz nació a comienzos de la década de 2010 como el proyecto de Ijsbrand de Wilde y Gert Beazar\, entonces DJs e ingenieros de sonido. Con la incorporación de Maxim Helincks y Pieter de Meester\, el grupo adoptó su forma definitiva como cuarteto y empezó a desarrollar ese tan personal que hoy los define: una fusión orgánica de house\, disco funk y acid jazz. \nSu música respira autenticidad y una delicada sensibilidad acústica\, construida sobre ritmos envolventes que atrapan desde la primera nota\, como demuestran temas como “The Ginning” o “Merci Eclair”. Para situarlos en el mapa sonoro\, podríamos decir que evocan la atmósfera de Kerala Dust y Bonobo\, con un matiz más jazzy. Fieles a su libertad creativa\, fundaron su propio sello\, Moodfamily\, desde el que han consolidado una identidad sin concesiones. Eso les abrió camino hacia los festivales internacionales más importantes como\, por ejemplo\, Coachella. \nLa música de Stavroz cobra pleno sentido en directo\, donde se convierte en una experiencia completa. Con su nuevo trabajo Take A Seat\, la banda nos invita a tomar asiento y disfrutar de su directo como de una buena peli. Este viernes\, los escucharemos presentar el disco en La Paloma\, pero\, con la energía que despliegan\, dudamos que alguien pueda permanecer sentado demasiado tiempo.
URL:https://barcelona.lecool.com/eventos/stavroz/
CATEGORIES:Concierto
ATTACH;FMTTYPE=image/webp:https://barcelona.lecool.com/wp-content/uploads/2026/02/aragonai-5bf35594-b2d8-465d-ba4b-c4306731c319.jpeg-e1771292246665.webp
END:VEVENT
BEGIN:VEVENT
DTSTART;TZID=Europe/Madrid:20260227T080000
DTEND;TZID=Europe/Madrid:20260227T233000
DTSTAMP:20260419T171207
CREATED:20260219T144320Z
LAST-MODIFIED:20260219T144320Z
UID:210062-1772179200-1772235000@barcelona.lecool.com
SUMMARY:«rinôçérôse»
DESCRIPTION:2009. Mi hermano saca un disco de su estantería –sí\, esa cajita cuadrada que por entonces teníamos que comprar para escuchar música– y lo coloca en la cadena hi-fi (sin comentarios). “Te gustará”\, me dijo. Así descubrí a «rinôçérôse»\, un nombre que condensa en una sola palabra muchos de los misterios de la ortografía francesa –y que\, sin duda\, nunca acabaré de escribir bien– pero también el nombre de una figura indiscutibles del French Touch de los 90. \nFue la primera vez que escuché al dúo formado por Patrice Carrié y Jean-Philippe Freu. Me atrapó cada nota de aquella furia electro-rock que estallaba en canciones como “Panick Attack”\, “Time Machine” o la pegadiza “Where you from”. El disco se titulaba Futurinô y\, aunque no era su primer trabajo ni el que los llevó a la escena internacional (logro que correspondió a su trabajo anterior Schizophonia)\, fue el que me abrió la puerta a su universo musical: una mezcla de rock\, electrónica y disco con un toque indie que puede recordar a bandas como Hot Chip\, The Chemical Brothers\, Justice o Cut Copy. \nA veces la vida ofrece oportunidades que no conviene desperdiciar. En el marco del Cruïlla Hivern\, «rinôçérôse» visitará la ciudad condal para repasar su contundente trayectoria y presentar su último trabajo Psychôanalysis en la Sala Paral·lel 62. Una ocasión perfecta para vivir en primera persona un directo electrizante y vibrante\, orquestado por una banda mítica que sigue redefiniendo el futuro de la electrónica francesa. Creedme: no queréis perdéroslo.
URL:https://barcelona.lecool.com/eventos/rinocerose/
CATEGORIES:Concierto
ATTACH;FMTTYPE=image/webp:https://barcelona.lecool.com/wp-content/uploads/2026/02/rinocerose-foto-promo_250514091108.jpg-scaled-e1771512175318.webp
END:VEVENT
END:VCALENDAR