BEGIN:VCALENDAR
VERSION:2.0
PRODID:-//Le Cool  Agenda Barcelona - ECPv6.3.2//NONSGML v1.0//EN
CALSCALE:GREGORIAN
METHOD:PUBLISH
X-ORIGINAL-URL:https://barcelona.lecool.com
X-WR-CALDESC:Eventos para Le Cool  Agenda Barcelona
REFRESH-INTERVAL;VALUE=DURATION:PT1H
X-Robots-Tag:noindex
X-PUBLISHED-TTL:PT1H
BEGIN:VTIMEZONE
TZID:Europe/Madrid
BEGIN:DAYLIGHT
TZOFFSETFROM:+0100
TZOFFSETTO:+0200
TZNAME:CEST
DTSTART:20260329T010000
END:DAYLIGHT
BEGIN:STANDARD
TZOFFSETFROM:+0200
TZOFFSETTO:+0100
TZNAME:CET
DTSTART:20261025T010000
END:STANDARD
END:VTIMEZONE
BEGIN:VEVENT
DTSTART;TZID=Europe/Madrid:20260301T080000
DTEND;TZID=Europe/Madrid:20260301T233000
DTSTAMP:20260419T151823
CREATED:20260223T174340Z
LAST-MODIFIED:20260225T145049Z
UID:210093-1772352000-1772407800@barcelona.lecool.com
SUMMARY:Austra
DESCRIPTION:No lo pienso muy a menudo\, pero a veces el algoritmo acierta. Fue gracias a él –y\, seguramente\, a mucho tiempo libre en casa durante el confinamiento– que descubrí a la cantante y compositora canadiense Austra\, el proyecto liderado por Katie Stelmanis\, y su tema “Anywayz”. \nAnd the world keeps turning anyways\nThe flowers come up anyways\nThe mountains rise up anyways […] \nUna letra que resonaba profundamente con la extraña realidad que estábamos viviendo entonces. Pero más allá del mensaje\, lo que realmente me cautivó fue la combinación de la voz de formación operística de Katie con ritmos electrónicos hipnóticos. Una fusión de lo clásico y contemporáneo\, original y rompedora\, y muy bailable. Su música transita entre el art pop\, el synthpop\, la electrónica y la new wave\, y puede recordar ecos de Kate Bush\, CocoRosie\, The Knife o Bat For Lashes\, pero con una identidad y energía propias. \nPara inaugurar el mes de marzo\, Austra presentará en La Nau su nuevo disco\, Chin Up Buttercup\, publicado a finales del año pasado. Canciones como “Siren Song” o la vibrante “Math Equation” formarán parte de la banda sonora de la noche: una declaración de intenciones en clave de catarsis y un impulso para sacudirse la desilusión que provocan los sueños rotos y los amores fallidos. Y de eso\, sabemos todas. ¡Un descubrimiento musical más que recomendable para despedir la semana por todo lo alto!
URL:https://barcelona.lecool.com/eventos/austra-26/
CATEGORIES:Concierto
ATTACH;FMTTYPE=image/jpeg:https://barcelona.lecool.com/wp-content/uploads/2026/02/4b1d8fd2-2d5d-442d-8d68-675a5c46f381-e1771868591685.jpg
END:VEVENT
BEGIN:VEVENT
DTSTART;TZID=Europe/Madrid:20260305T080000
DTEND;TZID=Europe/Madrid:20260305T233000
DTSTAMP:20260419T151823
CREATED:20260302T053150Z
LAST-MODIFIED:20260302T053150Z
UID:210187-1772697600-1772753400@barcelona.lecool.com
SUMMARY:ATZUR
DESCRIPTION:¿Conocéis esa sensación de llegar tarde a la tendencia? Esa mezcla de frustración y sorpresa al sentir que has perdido el tren\, que todo el mundo ya estaba ahí mientras tú ni siquiera te habías enterado. Y entonces te preguntas cómo ha podido pasar tanto tiempo sin prestarle ningun tipo de atención. \nAsí me siento a nivel musical al pensar que ATZUR actuó en el Primavera Sound en 2023 y que\, por aquel entonces\, yo ni siquiera sabía que existían. De hecho\, hasta agotaron entradas en su gira tras el lanzamiento de su primer álbum\, Strange Rituals. \nSi ya conocéis al dúo austro-español formado por Patricia Narbón y Paul Ali\, probablemente ya tengáis marcada en el calendario su concierto previsto en La Nau este jueves. Y si no\, os recomendaría empezar con “Faithful Believer” como puerta de entrada: os abrirá el apetito y\, casi sin daros cuenta\, estaréis hambrientos de su electropop magnético. \nLo que empezó como un match en Tinder terminó convirtiéndose en una simbiosis artística. De ahí nació un sonido propio que mezcla pop\, punk y electrónica con naturalidad: evocan la intensidad de Florence + The Machine\, la energía de Lorde y la atmósfera más electrónica de The XX\, pero con una identidad propia. Con su segundo LP\, Humble\, ATZUR regresan con más energía y carisma que nunca\, con temas como “Psychodrama”\, “Now I’m Happy” o “Humble”. \nEl tren de ATZUR vuelve a pasar. No sé vosotros\, pero yo no pienso dejarlo escapar otra vez. Este jueves toca bailar… y recuperar tres años perdidos.
URL:https://barcelona.lecool.com/eventos/atzur/
CATEGORIES:Concierto
ATTACH;FMTTYPE=image/jpeg:https://barcelona.lecool.com/wp-content/uploads/2026/02/atzur_humble-press-horizontal-scaled-1-e1772419867439.jpg
END:VEVENT
BEGIN:VEVENT
DTSTART;TZID=Europe/Madrid:20260320T080000
DTEND;TZID=Europe/Madrid:20260320T233000
DTSTAMP:20260419T151823
CREATED:20260317T174856Z
LAST-MODIFIED:20260317T174856Z
UID:210306-1773993600-1774049400@barcelona.lecool.com
SUMMARY:Arnau Obiols: Ocelltambor
DESCRIPTION:Este viernes\, L’Auditori acoge la presentación de un disco muy especial. Con su nuevo proyecto Ocelltambor\, el músico Arnau Obiols propone un viaje que no empieza en el escenario\, sino mucho antes: en los paisajes del Pirineo\, en la memoria oral\, en el sonido del viento entre los árboles o en el eco de una montaña. Su música nace del cruce entre tradición y experimentación\, entre lo ancestral y lo contemporáneo\, creando un universo sonoro que es tan físico como invisible. \nObiols lleva media vida tocando en proyectos de diferentes ámbitos musicales\, sobre todo en aquellos relacionados con el jazz contemporáneo y la improvisación; y más en la actualidad\, con la música de raíces catalanas y la experimentación. A través de la percusión\, la voz y una sensibilidad muy particular\, construye un directo que respira naturaleza. Sus piezas evocan bosques\, estrellas\, pájaros\, niebla; sabe como conectar dos mundos distintos a través de sus acordes. \nEl ciclo Sit Back propone conciertos en formato íntimo\, donde sentarse\, escuchar y dejarse llevar. Y en este contexto\, la propuesta de Obiols encaja como un ritual contemporáneo. Así que haz una pausa en el ritmo frenético de la semana y apunta este concierto en la agenda. ¡Nos vemos el viernes en L’Auditori! \n//foto de Pep Camps
URL:https://barcelona.lecool.com/eventos/arnau-obiols-ocelltambor/
CATEGORIES:Concierto
ATTACH;FMTTYPE=image/jpeg:https://barcelona.lecool.com/wp-content/uploads/2026/03/Arnau-Obiols_Pep-Camps.jpg
END:VEVENT
BEGIN:VEVENT
DTSTART;TZID=Europe/Madrid:20260331T080000
DTEND;TZID=Europe/Madrid:20260331T233000
DTSTAMP:20260419T151823
CREATED:20260323T163337Z
LAST-MODIFIED:20260323T163337Z
UID:210393-1774944000-1774999800@barcelona.lecool.com
SUMMARY:caroline
DESCRIPTION:Este martes os invitamos a abrir la mente a nivel musical y a descubrir algo que\, de verdad\, suena diferente. La banda británica caroline llega a la ciudad condal para actuar en la Sala Upload y\, si hay algo que podemos asegurar\, es que os sorprenderán. \nEl peculiar octeto\, fundado por Casper Hughes\, Jasper Llewellyn y Mike O’Malley\, y completado por Oliver Hamilton\, Freddy Wordsworth\, Magdalena McLean\, Hugh Aynsley y Alex McKenzie\, desafía cualquier etiqueta estilística. Guitarras\, violines\, flautas\, clarinetes\, saxofones\, cello y percusiones se entrelazan para crear una propuesta sonora que oscila entre el post-rock y el folk sin estancarse nunca. \nDesde su primer LP epónimo en 2022\, la banda ha evolucionado y se ha transformado en algo más que un grupo multiinstrumental: una entidad con una huella musical propia y única. Con caroline 2\, su segundo LP\, dan un paso más allá\, abriendo con “Tell me I never knew that”\, en colaboración con Caroline Polachek\, una auténtica declaración de intenciones que refleja su madurez y los estrechos lazos entre sus miembros. \nAntes de su participación en la próxima edición de Primavera Sound\, tendremos la oportunidad de verlos en un entorno más cercano\, pero no menos espectacular. Sabemos que\, con estas palabras\, quizás no hemos respondido del todo a la gran pregunta: ¿quién es caroline? Lo mejor es venir a descubrirlo en directo por uno mismo\, especialmente si te gustan artistas como Arthur Russell o Talk Talk.
URL:https://barcelona.lecool.com/eventos/caroline/
CATEGORIES:Concierto
ATTACH;FMTTYPE=image/jpeg:https://barcelona.lecool.com/wp-content/uploads/2026/03/Press-Photo-by-El-Hardwick-scaled-1-e1774283470106.jpg
END:VEVENT
END:VCALENDAR