BEGIN:VCALENDAR
VERSION:2.0
PRODID:-//Le Cool  Agenda Barcelona - ECPv6.3.2//NONSGML v1.0//EN
CALSCALE:GREGORIAN
METHOD:PUBLISH
X-WR-CALNAME:Le Cool  Agenda Barcelona
X-ORIGINAL-URL:https://barcelona.lecool.com
X-WR-CALDESC:Eventos para Le Cool  Agenda Barcelona
REFRESH-INTERVAL;VALUE=DURATION:PT1H
X-Robots-Tag:noindex
X-PUBLISHED-TTL:PT1H
BEGIN:VTIMEZONE
TZID:Europe/Madrid
BEGIN:DAYLIGHT
TZOFFSETFROM:+0100
TZOFFSETTO:+0200
TZNAME:CEST
DTSTART:20250330T010000
END:DAYLIGHT
BEGIN:STANDARD
TZOFFSETFROM:+0200
TZOFFSETTO:+0100
TZNAME:CET
DTSTART:20251026T010000
END:STANDARD
END:VTIMEZONE
BEGIN:VEVENT
DTSTART;TZID=Europe/Madrid:20251208T080000
DTEND;TZID=Europe/Madrid:20251208T233000
DTSTAMP:20260419T215128
CREATED:20251202T143420Z
LAST-MODIFIED:20251202T144642Z
UID:209402-1765180800-1765236600@barcelona.lecool.com
SUMMARY:Baxter Dury + Joshua Idehen
DESCRIPTION:Ya es una suerte poder asistir al concierto de un artista que te gusta\, pero si además elige como telonero a otro músico que también te apetecía descubrir\, entonces es como si te tocase la lotería antes de tiempo. Así nos sentimos con el regalo que nos trae Houston Party Music justo antes de las fiestas: el combo Baxter Dury/Joshua Idehen\, dos figuras esenciales de la escena alternativa británica. \nBaxter Dury se abrió un hueco propio en el pop rock del Reino Unido y ha colaborado con grandes nombres de la electrónica como Etienne de Crécy\, Fred Again o Discodeine. Sin embargo\, es la primera vez que publica un disco propio con una huella electrónica tan marcada. Allbarone es un experimento musical que el artista británico desarrolló junto al prestigioso productor Paul Epworth (Forence + The Machine\, Glass Animals\, U2\, Adele…). Una vez más\, Baxter demuestra que nunca se conformó con ser “el hijo de” —en su caso\, el de Ian Dury\, autor del célebre “Sex\, Drugs & Rock ’n’ Roll”—\, sino que apostó por construirse una identidad propia y que su música hablase por él. Con ocho discos en su repertorio\, ese último aparece como una rareza en su discografía\, y nos encanta. \n \nComo telonero\, Dury ha elegido al músico y poeta británico Joshua Idehen. De origen nigeriano\, Idehen se ha dado a conocer por su trabajo híbrido entre poesía\, spoken word\, jazz y electrónica. Ha colaborado con numerosos artistas\, entre ellos Metronomy con el tema “With Balance”. En sus letras reflexiona sobre la sociedad\, el racismo o el patriarcado. Sus textos están llenos de humor y mensajes afilados\, como en la original clase de ciencias sociales que ofrece en “Mum Does the Washing”. Su propuesta es tan singular como poderosa\, y encajará a la perfección con el universo de Baxter Dury en una noche musical de lujo. \nEste lunes\, en la Sala 2 del Razzmatazz. ¡Un regalo por adelantado! \n \n 
URL:https://barcelona.lecool.com/eventos/baxter-dury-joshua-idehen/
CATEGORIES:Concierto
ATTACH;FMTTYPE=image/jpeg:https://barcelona.lecool.com/wp-content/uploads/2025/12/52ee0aa8-3037-4309-ad99-a0e25f2942e1-e1764686687836.jpg
END:VEVENT
END:VCALENDAR