BEGIN:VCALENDAR
VERSION:2.0
PRODID:-//Le Cool  Agenda Barcelona - ECPv6.3.2//NONSGML v1.0//EN
CALSCALE:GREGORIAN
METHOD:PUBLISH
X-WR-CALNAME:Le Cool  Agenda Barcelona
X-ORIGINAL-URL:https://barcelona.lecool.com
X-WR-CALDESC:Eventos para Le Cool  Agenda Barcelona
REFRESH-INTERVAL;VALUE=DURATION:PT1H
X-Robots-Tag:noindex
X-PUBLISHED-TTL:PT1H
BEGIN:VTIMEZONE
TZID:Europe/Madrid
BEGIN:DAYLIGHT
TZOFFSETFROM:+0100
TZOFFSETTO:+0200
TZNAME:CEST
DTSTART:20260329T010000
END:DAYLIGHT
BEGIN:STANDARD
TZOFFSETFROM:+0200
TZOFFSETTO:+0100
TZNAME:CET
DTSTART:20261025T010000
END:STANDARD
END:VTIMEZONE
BEGIN:VEVENT
DTSTART;TZID=Europe/Madrid:20260114T080000
DTEND;TZID=Europe/Madrid:20260114T233000
DTSTAMP:20260419T202147
CREATED:20260113T222140Z
LAST-MODIFIED:20260113T222140Z
UID:209704-1768377600-1768433400@barcelona.lecool.com
SUMMARY:The Bridge
DESCRIPTION:El creador de sonidos y experiencias sonoras The Bridge aterriza en L’Auditori en una cita que promete romper los esquemas de la música en directo. Programado como parte de las Sampler Series\, este concierto une tradición y vanguardia en una propuesta que trasciende géneros y expectativas: del jazz europeo contemporáneo a paisajes sonoros donde lo acústico dialoga con lo electrónico y lo experimental. \nEl proyecto The Bridge —cuarteto internacional liderado por el saxofonista portugués Rodrigo Amado— reúne algunas de las figuras más vibrantes del jazz actual\, explorando territorio creativo sin fronteras. Su presencia en Barcelona no solo celebra la historia del jazz europeo\, sino que la reinterpreta con una energía inquieta e improvisada\, capaz de captar tanto a melómanos como a curiosos de nuevas experiencias musicales. \nSi te gusta descubrir propuestas que conectan estilos\, ritmos y sensaciones diferentes\, The Bridge es una invitación que vale la pena aceptar. No es solo un concierto: es una experiencia musical para sentir\, pensar y comentar después. Apunta la fecha en tu agenda y no te lo pierdas.
URL:https://barcelona.lecool.com/eventos/the-bridge/
CATEGORIES:Concierto
ATTACH;FMTTYPE=image/jpeg:https://barcelona.lecool.com/wp-content/uploads/2026/01/607491491_32890065473974965_8095849405719414952_n.large_.jpg
END:VEVENT
END:VCALENDAR