BEGIN:VCALENDAR
VERSION:2.0
PRODID:-//Le Cool  Agenda Barcelona - ECPv6.3.2//NONSGML v1.0//EN
CALSCALE:GREGORIAN
METHOD:PUBLISH
X-WR-CALNAME:Le Cool  Agenda Barcelona
X-ORIGINAL-URL:https://barcelona.lecool.com
X-WR-CALDESC:Eventos para Le Cool  Agenda Barcelona
REFRESH-INTERVAL;VALUE=DURATION:PT1H
X-Robots-Tag:noindex
X-PUBLISHED-TTL:PT1H
BEGIN:VTIMEZONE
TZID:Europe/Madrid
BEGIN:DAYLIGHT
TZOFFSETFROM:+0100
TZOFFSETTO:+0200
TZNAME:CEST
DTSTART:20260329T010000
END:DAYLIGHT
BEGIN:STANDARD
TZOFFSETFROM:+0200
TZOFFSETTO:+0100
TZNAME:CET
DTSTART:20261025T010000
END:STANDARD
END:VTIMEZONE
BEGIN:VEVENT
DTSTART;TZID=Europe/Madrid:20260116T203000
DTEND;TZID=Europe/Madrid:20260116T223000
DTSTAMP:20260419T202144
CREATED:20260108T191154Z
LAST-MODIFIED:20260108T191154Z
UID:209664-1768595400-1768602600@barcelona.lecool.com
SUMMARY:Fito & Fitipaldis - Aullidos Tour
DESCRIPTION:Después de más de dos años y medio sin subirse a un escenario\, Fito & Fitipaldis vuelven a la carretera con Aullidos Tour\, una gira grande de verdad\, de las que atraviesan el país como un rayo y te recuerdan por qué este grupo sigue siendo un refugio para tanta gente. \nEn Barcelona\, la parada es doble y a lo grande: Palau Sant Jordi. El tour no va solo de repasar himnos\, que también. Llega con material nuevo bajo el brazo\, «El monte de los aullidos»\, el disco que abre otra etapa sin renunciar a esa mezcla tan suya de rock de carretera y letras que te pillan con la guardia baja. \nSi te va el rock sin postureo y con esa energía de banda que suena a carretera y a estribillo compartido\, este es tu plan. Barcelona los recibe a lo grande en el Sant Jordi con el Aullidos Tour en plena forma. Apúntalo en la agenda y nos vemos allí.
URL:https://barcelona.lecool.com/eventos/fito-fitipaldis-aullidos-tour/
CATEGORIES:Concierto
ATTACH;FMTTYPE=image/jpeg:https://barcelona.lecool.com/wp-content/uploads/2026/01/492553240_1217093379775993_7991965383506176669_n-e1767898593123.jpg
END:VEVENT
END:VCALENDAR