BEGIN:VCALENDAR
VERSION:2.0
PRODID:-//Le Cool  Agenda Barcelona - ECPv6.3.2//NONSGML v1.0//EN
CALSCALE:GREGORIAN
METHOD:PUBLISH
X-ORIGINAL-URL:https://barcelona.lecool.com
X-WR-CALDESC:Eventos para Le Cool  Agenda Barcelona
REFRESH-INTERVAL;VALUE=DURATION:PT1H
X-Robots-Tag:noindex
X-PUBLISHED-TTL:PT1H
BEGIN:VTIMEZONE
TZID:Europe/Madrid
BEGIN:DAYLIGHT
TZOFFSETFROM:+0100
TZOFFSETTO:+0200
TZNAME:CEST
DTSTART:20260329T010000
END:DAYLIGHT
BEGIN:STANDARD
TZOFFSETFROM:+0200
TZOFFSETTO:+0100
TZNAME:CET
DTSTART:20261025T010000
END:STANDARD
END:VTIMEZONE
BEGIN:VEVENT
DTSTART;TZID=Europe/Madrid:20260130T080000
DTEND;TZID=Europe/Madrid:20260130T233000
DTSTAMP:20260419T185236
CREATED:20260127T143307Z
LAST-MODIFIED:20260127T143307Z
UID:209799-1769760000-1769815800@barcelona.lecool.com
SUMMARY:Ferran Palau: Aniversari feliç
DESCRIPTION:Este viernes\, L’Auditori nos propone una vuelta a lo esencial\, un dejar que la música respire a su propio ritmo. Ferran Palau vuelve a los escenarios para presentar su álbum Aniversari feliç. Con este nuevo trabajo\, Palau se desprende de la batería y del pulso terrenal que ancla el cuerpo. En su lugar\, aparecen cuerdas\, vientos y guitarras reverberantes que elevan las canciones y las sitúan en un plano ingrávido. El pop y las texturas urbanas se difuminan para reencontrarse con el folk. \nLa experiencia del ciclo Sit Back acentúa esa voluntad de mínima expresión. Aquí la música no empuja: acompaña.  En directo\, el universo de Ferran Palau se vuelve íntimo y misterioso. Hay encanto especial en los detalles\, en cómo una guitarra se abre en el espacio o  el viento dibuja una sombra sonora. \nEste concierto es una invitación a escuchar y dejarse atravesar. A celebrar un «cumpleaños feliz» que no mira atrás con nostalgia\, sino que vuelve al origen para seguir avanzando. Si buscas un show diferente para las noches más frías del invierno\, reserva tu entrada… ¡y nos vemos en L’Auditori! \n//foto de Louise Sansom
URL:https://barcelona.lecool.com/eventos/ferran-palau-aniversari-felic/
CATEGORIES:Concierto
ATTACH;FMTTYPE=image/jpeg:https://barcelona.lecool.com/wp-content/uploads/2026/01/Ferran-Palau_Louise-Sansom-e1769400086715.jpg
END:VEVENT
END:VCALENDAR