BEGIN:VCALENDAR
VERSION:2.0
PRODID:-//Le Cool  Agenda Barcelona - ECPv6.3.2//NONSGML v1.0//EN
CALSCALE:GREGORIAN
METHOD:PUBLISH
X-WR-CALNAME:Le Cool  Agenda Barcelona
X-ORIGINAL-URL:https://barcelona.lecool.com
X-WR-CALDESC:Eventos para Le Cool  Agenda Barcelona
REFRESH-INTERVAL;VALUE=DURATION:PT1H
X-Robots-Tag:noindex
X-PUBLISHED-TTL:PT1H
BEGIN:VTIMEZONE
TZID:Europe/Madrid
BEGIN:DAYLIGHT
TZOFFSETFROM:+0100
TZOFFSETTO:+0200
TZNAME:CEST
DTSTART:20260329T010000
END:DAYLIGHT
BEGIN:STANDARD
TZOFFSETFROM:+0200
TZOFFSETTO:+0100
TZNAME:CET
DTSTART:20261025T010000
END:STANDARD
END:VTIMEZONE
BEGIN:VEVENT
DTSTART;TZID=Europe/Madrid:20260207T080000
DTEND;TZID=Europe/Madrid:20260208T230000
DTSTAMP:20260419T185645
CREATED:20260205T152147Z
LAST-MODIFIED:20260205T152147Z
UID:209966-1770451200-1770591600@barcelona.lecool.com
SUMMARY:Anna Andreu y Nil Ciuró: Dido & Eneas
DESCRIPTION:Si buscas una experiencia musical que se sitúe entre la poesía sonora y la reinvención creativa\, el concierto del ciclo Sit Back: Dido & Eneas en L’Auditori es tu plan de este finde. Más que un concierto\, podríamos decir que será una travesía íntima por un mito que ha inspirado a cientos de generaciones desde el Barroco\, reinterpretado aquí con una sensibilidad contemporánea. \nLa velada se despliega en dos actos. La primera parte\, a cargo de Anna Andreu\, toma la esencia de Dido & Aeneas de Henry Purcell y la transforma a través de su voz cálida\, su guitarra y un conjunto de cuerdas que van de lo folk a lo emocional. Anna Andreu convierte la tragedia de la reina de Cartago en una intimidad compartida\, donde la música parece surgir desde dentro antes que sonar hacia fuera. \nEn la segunda parte\, Nil Ciuró n0s ofrecerá una mirada más abstracta. Su interpretación está basada en sintetizadores y piano\, acompañado además por la soprano Montserrat Seró\, para tejer paisajes sonoros que fluctúan entre lo electrónico y lo acústico. \nBienvenido a una invitación a escuchar con calma\, a sentir la tragedia y la belleza del mito desde una nueva perspectiva. Si te atrae la música que explora los límites entre épocas\, lenguajes y emociones\, este viaje musical vale la pena. ¡Nos vemos en L’Auditori!
URL:https://barcelona.lecool.com/eventos/anna-andreu-y-nil-ciuro-dido-eneas/
CATEGORIES:Concierto
ATTACH;FMTTYPE=image/jpeg:https://barcelona.lecool.com/wp-content/uploads/2026/02/Imatge-DidoAeneas_2000x1125.jpg
END:VEVENT
BEGIN:VEVENT
DTSTART;TZID=Europe/Madrid:20260208T183000
DTEND;TZID=Europe/Madrid:20260208T203000
DTSTAMP:20260419T185645
CREATED:20260129T182048Z
LAST-MODIFIED:20260129T182952Z
UID:209850-1770575400-1770582600@barcelona.lecool.com
SUMMARY:Toon Story
DESCRIPTION:Film Symphony Orchestra vuelve a Barcelona con Toon Story\, un espectáculo que cruza la música sinfónica con los grandes himnos del cine de animación. De esos que te hacen sonreír por dentro y\, de paso\, te activan la memoria emocional en modo “yo esto me lo sé”. \nBajo la batuta de Constantino Martínez-Orts\, la orquesta propone un viaje por bandas sonoras que han marcado a varias generaciones: desde Toy Story\, El Rey León o La Bella y la Bestia a Cómo entrenar a tu dragón\, Kung Fu Panda\, Monstruos S.A.\, Los Increíbles o Pocahontas. Y aún hay hueco para títulos que elevan el factor nostalgia y diversión\, como Shrek\, Aladdin\, Ice Age\, Chicken Run\, Tom y Jerry o Anastasia\, entre otros. \nLa gracia es que no es solo un concierto: hay una puesta en escena con luz\, color y ritmo\, y los comentarios divulgativos de Martínez-Orts\, con humor y curiosidades\, que te meten en la trastienda de cada pieza sin ponerse intensos. Sales habiendo disfrutado y entendiendo un poco más por qué esa música funciona tan bien. \nEn el escenario\, más de 70 artistas entre músicos y voces para convertir temas míticos en una experiencia grande\, familiar y bastante irresistible. Reserva ya tu entrada y ven a vivir la animación como se merece\, con la orquesta a pleno pulmón. Nos vemos allí. \n \n 
URL:https://barcelona.lecool.com/eventos/toon-story/
CATEGORIES:Concierto
ATTACH;FMTTYPE=image/jpeg:https://barcelona.lecool.com/wp-content/uploads/2026/01/7-scaled-e1769702710215.jpg
END:VEVENT
END:VCALENDAR