BEGIN:VCALENDAR
VERSION:2.0
PRODID:-//Le Cool  Agenda Barcelona - ECPv6.3.2//NONSGML v1.0//EN
CALSCALE:GREGORIAN
METHOD:PUBLISH
X-WR-CALNAME:Le Cool  Agenda Barcelona
X-ORIGINAL-URL:https://barcelona.lecool.com
X-WR-CALDESC:Eventos para Le Cool  Agenda Barcelona
REFRESH-INTERVAL;VALUE=DURATION:PT1H
X-Robots-Tag:noindex
X-PUBLISHED-TTL:PT1H
BEGIN:VTIMEZONE
TZID:Europe/Madrid
BEGIN:DAYLIGHT
TZOFFSETFROM:+0100
TZOFFSETTO:+0200
TZNAME:CEST
DTSTART:20260329T010000
END:DAYLIGHT
BEGIN:STANDARD
TZOFFSETFROM:+0200
TZOFFSETTO:+0100
TZNAME:CET
DTSTART:20261025T010000
END:STANDARD
END:VTIMEZONE
BEGIN:VEVENT
DTSTART;TZID=Europe/Madrid:20260211T080000
DTEND;TZID=Europe/Madrid:20260211T233000
DTSTAMP:20260419T185239
CREATED:20260202T160526Z
LAST-MODIFIED:20260202T160526Z
UID:209882-1770796800-1770852600@barcelona.lecool.com
SUMMARY:The Last Dinner Party
DESCRIPTION:The Last Dinner Party irrumpieron en la escena rock en 2023 como un soplo de aire fresco que nadie esperaba\, pero que todas necesitábamos. Cinco mujeres magnéticas y teatrales\, capaces de apoderarse de cualquier escenario que se les ponga por delante. Lanzaron el sencillo “Nothing Matters” como una auténtica bomba de art-rock y con él\, conquistaron tanto a la crítica como al público internacional. Su álbum debut\, Prelude to Ecstasy\, es una colección de hits en la que cada tema supera al anterior y posee identidad propia. Canciones como “The Femininine Urge”\, “Sinner”\, “On Your Side” or “Beautiful Boy” son diamantes en bruto: una mezcla de rock barroco con un irreverente toque punk. \nSu éxito las llevo a estrenarse en grandes festivales internacionales\, como en el Primavera Sound en 2024. Al frente de la banda está Abigail Morris\, cuya personalidad combina la calidad vocal de Kate Bush y la elegancia de Florence Welch. La banda encantará a fans de Chappell Roan\, David Bowie\, St. Vincent o Queen. \nCuando la primera propuesta de una banda alcanza tal nivel de éxito\, el escepticismo sobre su futuro es inevitable. Si esto era solo el preludio\, ¿llegará el éxtasis con su segundo LP? El listón estaba altísimo\, pero la banda británica confirmó con su recién estrenado From the Pyre que han llegado para quedarse. No son un producto comercial al estilo girl band\, ni una moda pasajera. De hecho\, tienen todas las cartas para convertirse en una de las propuestas más relevantes de la nueva escena rock. \nDespués de arrasar con su energía y carisma en los festivales\, podremos verlas en directo este miércoles en la Sala Razzmatzz\, que se transformará en el escenario de un teatro rockero y barroco. Empoderamiento femenino al ritmo de riffs de guitarras eléctricas. Sin duda\, uno de los conciertos más prometedores del año.
URL:https://barcelona.lecool.com/eventos/the-last-dinner-party/
CATEGORIES:Concierto
ATTACH;FMTTYPE=image/jpeg:https://barcelona.lecool.com/wp-content/uploads/2026/01/TLDP-e1769993285110.jpg
END:VEVENT
END:VCALENDAR