BEGIN:VCALENDAR
VERSION:2.0
PRODID:-//Le Cool  Agenda Barcelona - ECPv6.3.2//NONSGML v1.0//EN
CALSCALE:GREGORIAN
METHOD:PUBLISH
X-ORIGINAL-URL:https://barcelona.lecool.com
X-WR-CALDESC:Eventos para Le Cool  Agenda Barcelona
REFRESH-INTERVAL;VALUE=DURATION:PT1H
X-Robots-Tag:noindex
X-PUBLISHED-TTL:PT1H
BEGIN:VTIMEZONE
TZID:Europe/Madrid
BEGIN:DAYLIGHT
TZOFFSETFROM:+0100
TZOFFSETTO:+0200
TZNAME:CEST
DTSTART:20260329T010000
END:DAYLIGHT
BEGIN:STANDARD
TZOFFSETFROM:+0200
TZOFFSETTO:+0100
TZNAME:CET
DTSTART:20261025T010000
END:STANDARD
END:VTIMEZONE
BEGIN:VEVENT
DTSTART;TZID=Europe/Madrid:20260227T080000
DTEND;TZID=Europe/Madrid:20260227T233000
DTSTAMP:20260419T184504
CREATED:20260219T144320Z
LAST-MODIFIED:20260219T144320Z
UID:210062-1772179200-1772235000@barcelona.lecool.com
SUMMARY:«rinôçérôse»
DESCRIPTION:2009. Mi hermano saca un disco de su estantería –sí\, esa cajita cuadrada que por entonces teníamos que comprar para escuchar música– y lo coloca en la cadena hi-fi (sin comentarios). “Te gustará”\, me dijo. Así descubrí a «rinôçérôse»\, un nombre que condensa en una sola palabra muchos de los misterios de la ortografía francesa –y que\, sin duda\, nunca acabaré de escribir bien– pero también el nombre de una figura indiscutibles del French Touch de los 90. \nFue la primera vez que escuché al dúo formado por Patrice Carrié y Jean-Philippe Freu. Me atrapó cada nota de aquella furia electro-rock que estallaba en canciones como “Panick Attack”\, “Time Machine” o la pegadiza “Where you from”. El disco se titulaba Futurinô y\, aunque no era su primer trabajo ni el que los llevó a la escena internacional (logro que correspondió a su trabajo anterior Schizophonia)\, fue el que me abrió la puerta a su universo musical: una mezcla de rock\, electrónica y disco con un toque indie que puede recordar a bandas como Hot Chip\, The Chemical Brothers\, Justice o Cut Copy. \nA veces la vida ofrece oportunidades que no conviene desperdiciar. En el marco del Cruïlla Hivern\, «rinôçérôse» visitará la ciudad condal para repasar su contundente trayectoria y presentar su último trabajo Psychôanalysis en la Sala Paral·lel 62. Una ocasión perfecta para vivir en primera persona un directo electrizante y vibrante\, orquestado por una banda mítica que sigue redefiniendo el futuro de la electrónica francesa. Creedme: no queréis perdéroslo.
URL:https://barcelona.lecool.com/eventos/rinocerose/
CATEGORIES:Concierto
ATTACH;FMTTYPE=image/webp:https://barcelona.lecool.com/wp-content/uploads/2026/02/rinocerose-foto-promo_250514091108.jpg-scaled-e1771512175318.webp
END:VEVENT
END:VCALENDAR