BEGIN:VCALENDAR
VERSION:2.0
PRODID:-//Le Cool  Agenda Barcelona - ECPv6.3.2//NONSGML v1.0//EN
CALSCALE:GREGORIAN
METHOD:PUBLISH
X-WR-CALNAME:Le Cool  Agenda Barcelona
X-ORIGINAL-URL:https://barcelona.lecool.com
X-WR-CALDESC:Eventos para Le Cool  Agenda Barcelona
REFRESH-INTERVAL;VALUE=DURATION:PT1H
X-Robots-Tag:noindex
X-PUBLISHED-TTL:PT1H
BEGIN:VTIMEZONE
TZID:Europe/Madrid
BEGIN:DAYLIGHT
TZOFFSETFROM:+0100
TZOFFSETTO:+0200
TZNAME:CEST
DTSTART:20260329T010000
END:DAYLIGHT
BEGIN:STANDARD
TZOFFSETFROM:+0200
TZOFFSETTO:+0100
TZNAME:CET
DTSTART:20261025T010000
END:STANDARD
END:VTIMEZONE
BEGIN:VEVENT
DTSTART;TZID=Europe/Madrid:20260331T080000
DTEND;TZID=Europe/Madrid:20260331T233000
DTSTAMP:20260419T150123
CREATED:20260323T163337Z
LAST-MODIFIED:20260323T163337Z
UID:210393-1774944000-1774999800@barcelona.lecool.com
SUMMARY:caroline
DESCRIPTION:Este martes os invitamos a abrir la mente a nivel musical y a descubrir algo que\, de verdad\, suena diferente. La banda británica caroline llega a la ciudad condal para actuar en la Sala Upload y\, si hay algo que podemos asegurar\, es que os sorprenderán. \nEl peculiar octeto\, fundado por Casper Hughes\, Jasper Llewellyn y Mike O’Malley\, y completado por Oliver Hamilton\, Freddy Wordsworth\, Magdalena McLean\, Hugh Aynsley y Alex McKenzie\, desafía cualquier etiqueta estilística. Guitarras\, violines\, flautas\, clarinetes\, saxofones\, cello y percusiones se entrelazan para crear una propuesta sonora que oscila entre el post-rock y el folk sin estancarse nunca. \nDesde su primer LP epónimo en 2022\, la banda ha evolucionado y se ha transformado en algo más que un grupo multiinstrumental: una entidad con una huella musical propia y única. Con caroline 2\, su segundo LP\, dan un paso más allá\, abriendo con “Tell me I never knew that”\, en colaboración con Caroline Polachek\, una auténtica declaración de intenciones que refleja su madurez y los estrechos lazos entre sus miembros. \nAntes de su participación en la próxima edición de Primavera Sound\, tendremos la oportunidad de verlos en un entorno más cercano\, pero no menos espectacular. Sabemos que\, con estas palabras\, quizás no hemos respondido del todo a la gran pregunta: ¿quién es caroline? Lo mejor es venir a descubrirlo en directo por uno mismo\, especialmente si te gustan artistas como Arthur Russell o Talk Talk.
URL:https://barcelona.lecool.com/eventos/caroline/
CATEGORIES:Concierto
ATTACH;FMTTYPE=image/jpeg:https://barcelona.lecool.com/wp-content/uploads/2026/03/Press-Photo-by-El-Hardwick-scaled-1-e1774283470106.jpg
END:VEVENT
END:VCALENDAR