BEGIN:VCALENDAR
VERSION:2.0
PRODID:-//Le Cool  Agenda Barcelona - ECPv6.3.2//NONSGML v1.0//EN
CALSCALE:GREGORIAN
METHOD:PUBLISH
X-WR-CALNAME:Le Cool  Agenda Barcelona
X-ORIGINAL-URL:https://barcelona.lecool.com
X-WR-CALDESC:Eventos para Le Cool  Agenda Barcelona
REFRESH-INTERVAL;VALUE=DURATION:PT1H
X-Robots-Tag:noindex
X-PUBLISHED-TTL:PT1H
BEGIN:VTIMEZONE
TZID:Europe/Madrid
BEGIN:DAYLIGHT
TZOFFSETFROM:+0100
TZOFFSETTO:+0200
TZNAME:CEST
DTSTART:20260329T010000
END:DAYLIGHT
BEGIN:STANDARD
TZOFFSETFROM:+0200
TZOFFSETTO:+0100
TZNAME:CET
DTSTART:20261025T010000
END:STANDARD
END:VTIMEZONE
BEGIN:VEVENT
DTSTART;TZID=Europe/Madrid:20260411T083000
DTEND;TZID=Europe/Madrid:20260412T233000
DTSTAMP:20260424T104439
CREATED:20190514T121117Z
LAST-MODIFIED:20260326T165345Z
UID:159502-1775896200-1776036600@barcelona.lecool.com
SUMMARY:Flors al Mercat
DESCRIPTION:Aquí\, todo girará en torno a la flor\, tal y como siempre tendría que haber sido. Y es que el entorno del Mercat de les Flors volverá a ser eso: un verdadero mercado de flores. En total serán más de 65 las iniciativas 100% plant-based invitadas a estar en la gran plaza Margarida de Xirgu\, las cuales no solo protagonizarán el evento sino que servirán de excusa para disfrutar de un fin de semana en el que nada puede salir mal. Flora et Labora\, Casa Pampa\, Taller de Alseide estarán presentes\, entre muchos otros. \n \nAsí que si eres de los que combinan pinchitos y cervezas en la calle Blai\, solo tienes que subir un poco más en la montaña para disfrutar de Flors al Mercat\, un encuentro con artesanía inspirada en el tema propuesto\, talleres de cultivo de plantas aromáticas\, música y también de sostenibilidad; en el que los más pequeños aprenderán que las cosas no solo se compran envasadas sino que\, además\, pueden sembrarse en la tierra. Todo ello\, organizado por Festivalet\, Duduá & BCN Més. Ven y entérate\, que habrá mucho más de lo aquí reseñado. No te arrepentirás. \n \n 
URL:https://barcelona.lecool.com/eventos/flors-al-mercat/
CATEGORIES:Encuentro
ATTACH;FMTTYPE=image/jpeg:https://barcelona.lecool.com/wp-content/uploads/2019/05/FlorsalMercat26_021.jpg
END:VEVENT
END:VCALENDAR