BEGIN:VCALENDAR
VERSION:2.0
PRODID:-//Le Cool  Agenda Barcelona - ECPv6.3.2//NONSGML v1.0//EN
CALSCALE:GREGORIAN
METHOD:PUBLISH
X-ORIGINAL-URL:https://barcelona.lecool.com
X-WR-CALDESC:Eventos para Le Cool  Agenda Barcelona
REFRESH-INTERVAL;VALUE=DURATION:PT1H
X-Robots-Tag:noindex
X-PUBLISHED-TTL:PT1H
BEGIN:VTIMEZONE
TZID:Europe/Madrid
BEGIN:DAYLIGHT
TZOFFSETFROM:+0100
TZOFFSETTO:+0200
TZNAME:CEST
DTSTART:20260329T010000
END:DAYLIGHT
BEGIN:STANDARD
TZOFFSETFROM:+0200
TZOFFSETTO:+0100
TZNAME:CET
DTSTART:20261025T010000
END:STANDARD
END:VTIMEZONE
BEGIN:VEVENT
DTSTART;TZID=Europe/Madrid:20260421T080000
DTEND;TZID=Europe/Madrid:20260428T170000
DTSTAMP:20260420T160745
CREATED:20260408T170728Z
LAST-MODIFIED:20260420T002743Z
UID:210543-1776758400-1777395600@barcelona.lecool.com
SUMMARY:Diàlegs de Sant Jordi 2026
DESCRIPTION:Hay algo especial en abril en Barcelona. Más allá de la luz que se estira y la llegada de la primavera. Para muchos\, abril es nuestro mes favorito porque es el mes de las letras. La ciudad se llena de actividades en torno a Sant Jordi: una celebración que se alarga durante semanas en torno a la magia de los libros\, la literatura\, la posibilidad de acercarnos a nuestros escritores favoritos. La ciudad se abre y todo gira alrededor de las palabras y ese gesto tan sencillo y bello como el de compartir una historia. Así que saca la agenda y apunta\, porque unos días antes de que las calles se llenen de rosas y firmas\, llegan los Diàlegs de Sant Jordi. Se trata de un ciclo de encuentros que reúne autores y autoras de todo el mundo\, que conversarán a partir de sus últimas obras y con un hilo conductor común: el Mediterráneo\, entendido como una región amplia y diversa que conecta lenguas y un imaginario colectivo. \nY este año la cita tiene un significado especial: Biblioteques de Barcelona celebra 25 años. Un cuarto de siglo en el que han pasado de ser espacios de consulta a convertirse en verdaderos refugios. En nuestras bibliotecas conviven generaciones\, culturas y distintas miradas. Los Diàlegs recogen ese espíritu y lo transforman en conversación. Escritores y lectores se encuentran\, se escuchan y se cuestionan sin distancia ni prisa. \n \nEl punto clave llegará el 22 de abril\, en el imponente Saló de Cent\, con el tradicional Pregó de la Lectura. Este año\, la encargada será Ali Smith\, una de las voces más lúcidas de la literatura contemporánea. ¿Qué podemos esperar de su intervención? Una celebración grupal\, una invitación a mirar las bibliotecas desde otro ángulo. Porque sí\, las bibliotecas son nuestro hogar y nuestro espacio de libertad. \nAsí que si eres amante de los libros y la cultura\, o sencillamente sientes curiosidad\, sumérgete en la programación. Porque Sant Jordi no empieza el día 23. Empieza aquí. En las conversaciones y encuentros. En una ciudad que se comparte y que vibra. ¡Nos vemos en los Diàlegs de Sant Jordi!
URL:https://barcelona.lecool.com/eventos/dialegs-sant-jordi-2026/
LOCATION:BARCELONA
CATEGORIES:Encuentro
ATTACH;FMTTYPE=image/jpeg:https://barcelona.lecool.com/wp-content/uploads/2026/04/RS14883_20220514_BIBLIOGARCIAMARQUEZ_035-lpr.jpg
END:VEVENT
BEGIN:VEVENT
DTSTART;TZID=Europe/Madrid:20260423T100000
DTEND;TZID=Europe/Madrid:20260423T233000
DTSTAMP:20260420T160745
CREATED:20260417T143307Z
LAST-MODIFIED:20260417T143307Z
UID:210641-1776938400-1776987000@barcelona.lecool.com
SUMMARY:Sant Jordi: feria de fotolibros
DESCRIPTION:¿Ya estás armando tu itinerario para la diada de Sant Jordi\, una de las -por no decir «la»- festividades con mayor historia y reconocimiento de la cultura catalana? Si eres de quienes buscan descubrir rincones auténticos con historias potentes\, este plan es un must. \nEn la zona alta de la Via Augusta está situada la Galería Villa Alegre\, una mansión espléndida con jardín interior que parece suspendida en otro ritmo. Allí tiene su sede la Fundació Photographic Social Vision\, una entidad sin ánimo de lucro con 25 años de trayectoria dedicada a preservar y difundir la fotografía documental como herramienta para construir una sociedad más consciente y mejor informada. Detrás\, Silvia Omedes y su equipo impulsan proyectos que ponen en valor miradas clave del siglo XX\, como la de Joana Biarnés\, la primer fotoperiodista española. \nEl 23 de abril\, de 10h a 20 h\, el jardín se abre para celebrar la cuarta edición de su Feria de Fotolibros. Editoriales como Blume\, Editorial RM o La Fábrica despliegan sus catálogos en un entorno que invita a hojear sin prisa. A lo largo del día habrá presentaciones y firmas: la fotógrafa Claudia Toledo presenta Poquita sangre. Maternidades después de los 40 años\, trabajo ganador de la VI Beca Joana Biarnés para Jóvenes Fotoperiodistas\, mientras Jordi Rovira y Maite Caramés acercan relatos donde la historia y la imagen dialogan. También participarán diversos profesionales de la fotografía como Gervasio Sánchez o Luis Casadeval. \nEn el interior\, una muestra de fotografías inéditas y copias de época permite asomarse a archivos vivos; en el jardín\, rosas solidarias\, una actuación musical al mediodía y vermut cortesía de Fot-li completan la experiencia. Este Sant Jordi\, ¡cambia de perspectiva y enfoca a Galería Villa Alegre! \n//fotos de Marina Maria
URL:https://barcelona.lecool.com/eventos/sant-jordi-feria-fotolibros/
LOCATION:Galeria Villa Alegre\, Via Augusta 175\, Barcelona\, BARCELONA\, 08021\, Spain
CATEGORIES:Encuentro
ATTACH;FMTTYPE=image/jpeg:https://barcelona.lecool.com/wp-content/uploads/2026/04/Sant-Jordi-23-PSV_©-Marina-Maria_2.jpg
END:VEVENT
END:VCALENDAR