BEGIN:VCALENDAR
VERSION:2.0
PRODID:-//Le Cool  Agenda Barcelona - ECPv6.3.2//NONSGML v1.0//EN
CALSCALE:GREGORIAN
METHOD:PUBLISH
X-WR-CALNAME:Le Cool  Agenda Barcelona
X-ORIGINAL-URL:https://barcelona.lecool.com
X-WR-CALDESC:Eventos para Le Cool  Agenda Barcelona
REFRESH-INTERVAL;VALUE=DURATION:PT1H
X-Robots-Tag:noindex
X-PUBLISHED-TTL:PT1H
BEGIN:VTIMEZONE
TZID:Europe/Madrid
BEGIN:DAYLIGHT
TZOFFSETFROM:+0100
TZOFFSETTO:+0200
TZNAME:CEST
DTSTART:20260329T010000
END:DAYLIGHT
BEGIN:STANDARD
TZOFFSETFROM:+0200
TZOFFSETTO:+0100
TZNAME:CET
DTSTART:20261025T010000
END:STANDARD
END:VTIMEZONE
BEGIN:VEVENT
DTSTART;TZID=Europe/Madrid:20260102T000000
DTEND;TZID=Europe/Madrid:20260107T000000
DTSTAMP:20260419T214453
CREATED:20260101T235212Z
LAST-MODIFIED:20260101T235212Z
UID:209568-1767312000-1767744000@barcelona.lecool.com
SUMMARY:3 libros para regalar en Navidades
DESCRIPTION:Jane: El Retrato que Desempolva a Austen\, by Cristina Oñoro y Ana Jarén \nUna biografía literaria de Jane Austen\, de Cristina Oñoro con ilustraciones de Ana Jarén (Lumen\, 2025)\, irrumpe en el bicentenario del nacimiento de la autora británica como un homenaje fresco y erudito. Coincidiendo con el 250 aniversario\, este volumen no es una mera cronología vital\, sino un recorrido sentimental que entrelaza biografía y análisis literario\, reivindicando a Austen como precursora feminista y modernizadora de la novela. Oñoro\, profesora de la Complutense experta en literatura comparada\, despliega una prosa fluida y personal que desmonta el mito de la Austen conformista\, resaltando su ironía corrosiva y su crítica social en obras como Orgullo y prejuicio o Emma. \nJane logra su propósito con creces: desempolva a la autora y la devuelve a la primera línea de la relevancia cultural. La crítica es clara al señalar que las dinámicas que Austen retrató (dramas familiares\, presiones sociales\, la búsqueda de la voz propia) siguen resonando con la misma verdad hoy que hace doscientos años. \nJane es mucho más que un ejercicio de recuperación histórica; es una puerta abierta a la Austen que nos habla directamente hoy. Al cerrar sus páginas\, uno se da cuenta de que la inteligencia y la ironía que destilaba en sus cartas y sus novelas no están sepultadas en el siglo XIX\, sino que son la brújula de una conciencia moderna. Este libro no solo nos la presenta\, nos la entrega. Oñoro y Jarén han logrado que esta Jane se sienta tan cercana como esa amiga perspicaz que analiza las dinámicas de nuestra propia vida con una sonrisa sagaz. Es\, en esencia\, una invitación a reivindicar nuestro propio juicio práctico. \n \nMisal para cínicos\, by José Luis Esteban Villar \nEn un panorama literario a menudo saturado de autoayuda edulcorada y narrativas predecibles\, la editorial Yonki Books nos regala una joya de la irreverencia y la agudeza: Misal para cínicos de José Luis Esteban Villar. Este volumen no es un simple poemario ni un conjunto de aforismos; es una bofetada lúcida y\, a veces\, dolorosamente divertida\, a la hipocresía social\, la solemnidad vacua y la desesperanza contemporánea. \nEl título\, un oxímoron en sí mismo\, sienta las bases del tono del libro: si un «misal» implica un conjunto de oraciones para un culto\, este es el breviario de aquellos que han perdido la fe en casi todo\, menos en la ironía. El libro funciona como una especie de catecismo del desencanto. Cada texto\, breve pero de gran calado\, destila una mezcla explosiva de humor negro\, reflexión filosófica y desgarro existencial. \n«El problema no es que seas tú o no seas tú\, el problema es que\, en cualquiera de los casos\, la cosa sigue igual.» Esta cita\, extraída del corazón del libro\, encapsula perfectamente su espíritu: la resignación activa\, la conciencia de la propia insignificancia dentro de un sistema mayormente absurdo. El autor no ofrece soluciones\, y esa es precisamente su mayor virtud. Su objetivo no es curar\, sino diagnosticar con precisión terminal. \nMisal para cínicos es una lectura obligatoria para aquellos que se sienten exhaustos del optimismo forzado y la positividad tóxica. Es un bálsamo de acidez para el alma\, un compañero de viaje ideal para quien prefiere la honestidad brutal a la mentira piadosa. Esteban Villar nos invita a una liturgia sin dios\, donde la única fe reside en la capacidad de reírse de la propia derrota. No solo entretiene e interpela\, sino que también ofrece un valioso espacio de autenticidad. \n  \n \nEl vino de larga vida\, by N. D. Cocea  \n“El vino de larga vida”\, del escritor rumano N. D. Cocea\, es una novela breve que combina sensualidad\, crítica social y un retrato vivo del mundo rural de Moldavia. Aunque escrita hace casi un siglo\, mantiene una frescura sorprendente por la claridad con que muestra las tensiones entre tradición y modernidad.\nEl centro de la historia es Manole\, un terrateniente cuya inexplicable longevidad se acepta como parte natural del paisaje humano. No es un héroe mítico ni un anciano sabio al uso: Manole es un hombre excesivo\, vital\, contradictorio. Su presencia domina el pueblo\, genera comentarios y provoca tanto admiración como recelo. Cocea lo construye con una ambigüedad que evita cualquier lectura moral simple. \nEl vino que produce\, verdadero corazón simbólico de la novela\, funciona como metáfora de la tierra: denso\, antiguo\, cargado de memoria. A través de este elemento\, Cocea subraya la idea de que el territorio y quienes lo habitan se influyen mutuamente. Beber ese vino es\, en cierto modo\, participar del tiempo acumulado del lugar. \n“El vino de larga vida” es una obra breve pero intensa\, que se lee con placer y deja un poso reflexivo. Cocea logra que un pequeño rincón rural se convierta en escenario universal\, donde el tiempo\, el deseo y el poder se entrelazan con naturalidad. Su mayor mérito es recordarnos que la vida\, como el vino\, no se entiende sólo con la cabeza: también exige sentido\, memoria y una mirada capaz de saborear lo que permanece. Este cierre contundente reafirma la vigencia de una novela que\, pese a su sencillez aparente\, sigue diciendo más de lo que muestra.
URL:https://barcelona.lecool.com/eventos/3-libros-regalar-navidades/
CATEGORIES:Libro
ATTACH;FMTTYPE=image/jpeg:https://barcelona.lecool.com/wp-content/uploads/2025/12/IMG_0997-scaled-e1766691881285.jpeg
END:VEVENT
BEGIN:VEVENT
DTSTART;TZID=Europe/Madrid:20260126T080000
DTEND;TZID=Europe/Madrid:20260126T233000
DTSTAMP:20260419T214453
CREATED:20260119T105328Z
LAST-MODIFIED:20260119T105328Z
UID:209695-1769414400-1769470200@barcelona.lecool.com
SUMMARY:¿Quién teme a Romanée-Conti?\, by Dan Keeling
DESCRIPTION:Dan Keeling\, cofundador de la revista y restaurante Noble Rot\, llega con ¿Quién teme a Romanée-Conti? para recordarnos algo que a veces olvidamos: el vino no tiene por qué ser un territorio exclusivo para eruditos\, ni un club selecto donde solo caben quienes pueden pagar botellas imposibles. Su libro es\, ante todo\, una invitación a entrar sin miedo en ese mundo\, con la promesa de que se puede aprender\, disfrutar y emocionarse sin necesidad de recitar de memoria todas las añadas de Borgoña. Una de las cosas más disfrutables es cómo Keeling combina las grandes leyendas vinícolas —entre ellas la mítica Romanée-Conti\, que da título al libro— con productores más humildes o regiones que suelen pasar desapercibidas. Salta de Borgoña a Tenerife\, del Jura a zonas inglesas emergentes\, siempre con curiosidad y sin pedantería. Y\, sobre todo\, con la idea de que la magia del vino no está solo en los nombres famosos\, sino en la capacidad de cada lugar para expresarse en una botella. \nEl libro tiene capítulos cortos que funcionan casi como pequeñas historias independientes. Puedes leer uno antes de dormir\, otro mientras esperas al bus\, otro con una copa en la mano. Cada fragmento deja algo: un consejo para comprar mejor\, una reflexión sobre cómo el suelo cambia el sabor\, una crónica de una cata memorable o simplemente un retrato divertido de un viticultor excéntrico. Es un formato muy agradecido para quienes quieren aprender sin sentirse en una clase teórica. Una de las mayores virtudes del mismo es su capacidad para desmontar el elitismo sin condenarlo. Keeling no ridiculiza a quienes pagan miles de euros por una botella\, pero tampoco los venera. Más bien\, los observa con empatía\, consciente de que detrás de cada compra hay una historia de búsqueda: de pertenencia\, de distinción\, de trascendencia sensorial. \nEn resumidas cuentas: no es un tratado\, es una playlist. Lo lees\, bebes (mejor con una copa a mano) y terminas con ganas de huir al mundo con una mochila llena de corchos. O\, como dice él\, “beber bien no es beber caro; es beber con ganas de contarlo”.
URL:https://barcelona.lecool.com/eventos/quien-teme-a-romanee-conti/
CATEGORIES:Libro
ATTACH;FMTTYPE=image/jpeg:https://barcelona.lecool.com/wp-content/uploads/2026/01/QUIEN-TEME1-scaled-e1768518497753.jpeg
END:VEVENT
END:VCALENDAR