BEGIN:VCALENDAR
VERSION:2.0
PRODID:-//Le Cool  Agenda Barcelona - ECPv6.3.2//NONSGML v1.0//EN
CALSCALE:GREGORIAN
METHOD:PUBLISH
X-WR-CALNAME:Le Cool  Agenda Barcelona
X-ORIGINAL-URL:https://barcelona.lecool.com
X-WR-CALDESC:Eventos para Le Cool  Agenda Barcelona
REFRESH-INTERVAL;VALUE=DURATION:PT1H
X-Robots-Tag:noindex
X-PUBLISHED-TTL:PT1H
BEGIN:VTIMEZONE
TZID:Europe/Madrid
BEGIN:DAYLIGHT
TZOFFSETFROM:+0100
TZOFFSETTO:+0200
TZNAME:CEST
DTSTART:20260329T010000
END:DAYLIGHT
BEGIN:STANDARD
TZOFFSETFROM:+0200
TZOFFSETTO:+0100
TZNAME:CET
DTSTART:20261025T010000
END:STANDARD
END:VTIMEZONE
BEGIN:VEVENT
DTSTART;TZID=Europe/Madrid:20260302T080000
DTEND;TZID=Europe/Madrid:20260302T233000
DTSTAMP:20260419T184741
CREATED:20260223T032217Z
LAST-MODIFIED:20260223T231451Z
UID:210115-1772438400-1772494200@barcelona.lecool.com
SUMMARY:Hip hop es historia\, by Questlove
DESCRIPTION:El título del nuevo libro de Questlove\, Hip hop es historia\, tiene un doble significado. El baterista y co-líder de The Roots argumenta de manera convincente no sólo que el hip-hop es una pieza fundamental de la historia cultural\, sino también que\, hasta cierto punto\, es historia\, como en una forma de arte “que ha seguido su curso en un momento importante”. \nA lo largo de más de 300 páginas\, Questlove utiliza su experiencia como artista\, DJ y productor para explorar cómo ocurrió esa transformación. Es un guía turístico afable y experto a través de los anales del hip-hop\, tan experto en hilar hilos como en tocar discos. El libro está organizado según quinquenios. Cada media década está definida por su propia droga. La etapa embrionaria del hip-hop se produjo entre 1979 y 1982\, un período que\, según Questlove\, estuvo moldeado por la cocaína y el ancestro cercano del rap\, la música disco. El género pasó a su era del crack de 1987 a 1992\, la marihuana ocupó un lugar central entre 1992 y 1997\, y el éxtasis llevó al hip-hop a un nuevo milenio de 1997 a 2002\, y así sucesivamente\, hasta llegar al anestésico estético actual: el fentanilo. Pero\, afortunadamente\, “estos períodos no son sólo farmacéuticamente distintos”\, señala Questlove. “Cada época tuvo su propio estilo\, sus propios temas\, su propia tecnología\, su propia cultura”. \nQuestlove considera finales de los 80 y principios de los 90 como la «época dorada del hip-hop\, cuando MCs y DJs innovadores parecían surgir cada pocos meses\, y los álbumes clásicos brotaban con regularidad». Esa época\, repleta de obras maestras de Public Enemy\, De La Soul y NWA\, es universalmente venerada\, pero Questlove también reconoce que coincide con los años entre el instituto y su consagración artística\, una época en la que se dedicó a buscar inspiración y comprender la construcción del hip-hop. Si bien el conocimiento del autor sobre el hip-hop es tan profundo como el de cualquier musicólogo\, es su pasión por ciertos artistas y canciones lo que lo distingue. \nLa música del presente se construye sobre la música del pasado\, como piezas de Lego. El hip-hop no podría haber existido sin la música que lo precedió\, y la música disco\, el funk y el R&B fueron grandes influencias en él. Para Questlove\, escuchar «Rapper’s Delight» era como escuchar «Rock Around The Clock» de Bill Haley o «Hound Dog» de Elvis Presley en los años 50. A partir de ahí\, se adentra en el rap y enumera algunas canciones que le encantan. \nLa trayectoria personal de Questlove\, desde héroe de culto hasta figura reconocida (como DJ para los Obama y rockeando cada noche en la televisión abierta)\, le ha proporcionado experiencias extraordinarias\, lo que permite incluir anécdotas magníficas en este recorrido por la historia del hip-hop. Si bien dista mucho de ser una enciclopedia del género\, para una breve historia de su desarrollo en Estados Unidos\, difícilmente se encontrará una narración con mayor autenticidad y pasión.
URL:https://barcelona.lecool.com/eventos/hip-hop-es-historia-by-questlove/
CATEGORIES:Libro
ATTACH;FMTTYPE=image/jpeg:https://barcelona.lecool.com/wp-content/uploads/2026/02/hip-hop-scaled-e1771815822327.jpeg
END:VEVENT
BEGIN:VEVENT
DTSTART;TZID=Europe/Madrid:20260309T080000
DTEND;TZID=Europe/Madrid:20260309T233000
DTSTAMP:20260419T184741
CREATED:20260304T230523Z
LAST-MODIFIED:20260304T230523Z
UID:210199-1773043200-1773099000@barcelona.lecool.com
SUMMARY:Un asunto de familia\, by Claire Lynch
DESCRIPTION:Un asunto de familia\, debut de Claire Lynch\, llega a España con una propuesta narrativa que viaja entre dos tiempos para explorar la intensidad de lo privado frente al escrutinio público. En la novela\, Dawn\, una mujer joven en los años ochenta en una Inglaterra rural\, se enamora de otra mujer y desafía las convenciones morales de la época; décadas después\, su hija Maggie asiste al desvelamiento de una verdad enterrada\, conectando pasado y presente. Esta doble temporalidad permite mirar cómo los juicios sociales y las leyes de la época desarmaron familias y rodearon de silencio a las madres lesbianas. \nLa escritura de Lynch se ha descrito como una prosa delicada y contenida que\, mediante instantáneas y fragmentos breves\, va tejiendo un retrato íntimo pero socialmente incómodo. En este sentido\, el libro no es una crónica de escenarios espectaculares\, sino una radiografía de gestos\, miradas y decisiones que pesan mucho más de lo que aparentan. La autora recurre a una “raí­z documental” en la construcción narrativa: investigaciones y casos reales de madres lesbianas que perdieron la custodia en los ochenta proporcionan el anclaje histórico\, sin devenir en simple didáctica\, sino para intensificar la tensión emocional entre lo íntimo y lo institucional. \nEl eje central es el dilema de proteger a la familia a costa de silenciar verdades cruciales. Dawn y su historia de amor funcionan como una crítica a un sistema que convierte lo privado en evidencia pública\, y la novela sitúa a Maggie\, en la década posterior\, frente a esa herencia de secretos y humillaciones. Esta articulación de dos generaciones permite al lector discernir la evolución del dolor\, la vergüenza social y la posibilidad de reparación\, sin sentimentalismos fáciles. \nUn asunto de familia no es solo una historia de amor prohibido\, sino una exploración ética de lo que significa\, en una sociedad represiva\, hacer familia\, hablar verdad y resistir las formas de violencia institucional que persisten incluso cuando las personas buscan la pertenencia y el perdón. Los lectores interesados en historia LGBTQ+\, maternidad y memoria social encontrarán en Lynch una mirada sobria y poderosa sobre las cicatrices que persisten en generaciones.
URL:https://barcelona.lecool.com/eventos/un-asunto-de-familia-by-claire-lynch/
CATEGORIES:Libro
ATTACH;FMTTYPE=image/jpeg:https://barcelona.lecool.com/wp-content/uploads/2026/03/un-asunto-1-scaled-e1772665369607.jpeg
END:VEVENT
BEGIN:VEVENT
DTSTART;TZID=Europe/Madrid:20260323T080000
DTEND;TZID=Europe/Madrid:20260323T170000
DTSTAMP:20260419T184741
CREATED:20260203T230717Z
LAST-MODIFIED:20260323T013209Z
UID:209914-1774252800-1774285200@barcelona.lecool.com
SUMMARY:Andalucía negra\, by Custodio
DESCRIPTION:Para comprender el impacto de Andalucía negra\, resulta imperativo analizar la figura de Custodio Pérez (Huétor Tájar\, Granada\, 1983)\, cuya identidad como escritor autodidacta ha sido el pilar fundamental sobre el que se ha construido su marca literaria. Pérez no procede de círculos académicos ni periodísticos: su experiencia vital está ligada al campo andaluz\, habiendo ejercido como jornalero del olivar\, carpintero y antenista. Esta procedencia\, lejos de ser un impedimento\, ha dotado a su narrativa de una verosimilitud visceral y muy cercana. \nAndalucía negra se presenta como un volumen que agrupa las tres primeras novelas de Custodio Pérez: Granada oscura\, El mar de los olivos (también titulada Mitos y leyendas del mar de olivos) y El triángulo del sur. \nLa primera pieza de la trilogía sumerge al lector en una Granada que dista mucho de las postales turísticas tradicionales. Pérez construye un universo donde los callejones sombríos son el escenario de crímenes que mezclan el suspense clásico con un erotismo crudo. La narrativa se apoya en los inspectores Juan Gutiérrez y Javi Gómez\, una pareja de investigadores llanos\, sin complejidades\, lo que facilita la identificación del lector con la trama. \nLa segunda novela traslada la acción a la provincia de Jaén\, utilizando el paisaje del olivar no solo como escenario\, sino como un elemento opresivo que guarda secretos ancestrales. En este punto\, la crítica destaca una evolución hacia el realismo social. La obra aborda temas como la poca austeridad de la Iglesia y la dualidad de los cuerpos policiales en el ámbito rural español. \nEl desenlace de la trilogía entrelaza crímenes contemporáneos con heridas abiertas de la historia de España\, específicamente de la Guerra Civil y el drama de los bebés robados\, uno de los puntos más candentes\, que ven en Pérez a un autor capaz de llevar la novela negra española a un territorio que explora el alma y la memoria de un país. \nLas historias van a toda velocidad\, con capítulos cortos y ganchos constantes que invitan a la lectura compulsiva. Custodio admite que planifica sus obras empezando por el final\, decidiendo quién es el culpable y el desenlace antes de trazar el camino que llevará al lector hasta ese punto\, asegurándose de mantener la tensión en el 98% restante de la narración. Andalucía Negra es «el fenómeno editorial más sorprendente del año» por su capacidad de romper las barreras entre la autopublicación y el mainstream literario.
URL:https://barcelona.lecool.com/eventos/andalucia-negra-by-custodio/
CATEGORIES:Libro
ATTACH;FMTTYPE=image/jpeg:https://barcelona.lecool.com/wp-content/uploads/2026/02/andalucia-Negra-1-scaled-e1770157471794.jpeg
END:VEVENT
END:VCALENDAR