BEGIN:VCALENDAR
VERSION:2.0
PRODID:-//Le Cool  Agenda Barcelona - ECPv6.3.2//NONSGML v1.0//EN
CALSCALE:GREGORIAN
METHOD:PUBLISH
X-WR-CALNAME:Le Cool  Agenda Barcelona
X-ORIGINAL-URL:https://barcelona.lecool.com
X-WR-CALDESC:Eventos para Le Cool  Agenda Barcelona
REFRESH-INTERVAL;VALUE=DURATION:PT1H
X-Robots-Tag:noindex
X-PUBLISHED-TTL:PT1H
BEGIN:VTIMEZONE
TZID:Europe/Madrid
BEGIN:DAYLIGHT
TZOFFSETFROM:+0100
TZOFFSETTO:+0200
TZNAME:CEST
DTSTART:20260329T010000
END:DAYLIGHT
BEGIN:STANDARD
TZOFFSETFROM:+0200
TZOFFSETTO:+0100
TZNAME:CET
DTSTART:20261025T010000
END:STANDARD
END:VTIMEZONE
BEGIN:VEVENT
DTSTART;TZID=Europe/Madrid:20260314T080000
DTEND;TZID=Europe/Madrid:20260315T170000
DTSTAMP:20260419T215030
CREATED:20260305T105248Z
LAST-MODIFIED:20260312T230408Z
UID:210207-1773475200-1773594000@barcelona.lecool.com
SUMMARY:La nit del 4 al 5
DESCRIPTION:En la cartelera cultural barcelonesa\, el teatro vuelve a abrir un espacio de reflexión y la memoria con La nit del 4 al 5\, una creación de la Compañía CuldeSac que se representará en la Sala Fènix hasta el 15 de marzo\, de miércoles a domingo a las 20h. Si quieres saber qué es lo que encontrarás\, te lo contamos: a partir del texto de Rachel Graton\, la pieza sitúa la acción en pleno invierno\, durante la noche del 4 al 5 de enero. En la escena son las 22:40 y una joven camina sola. Desde una agresión sexual como punto de partida\, cinco intérpretes construyen una nueva historia suspendida entre el muro\, el hielo y el cielo. El montaje explora el silencio posterior\, el miedo\, la mirada de los otros\, el ruido de quienes blanquean al agresor y la frialdad de ciertas respuestas médicas y policiales\, mientras la víctima intenta reconstruirse y volver a habitar su cuerpo\, su voz y su vida. \nCon producción de la propia compañía\, se presenta como un espectáculo necesario\, punzante e incómodo que interpela directamente al espectador. Esperamos verte entre el público. \n 
URL:https://barcelona.lecool.com/eventos/la-nit-del-4-al-5/
CATEGORIES:Teatro
ATTACH;FMTTYPE=image/png:https://barcelona.lecool.com/wp-content/uploads/2026/03/Captura-de-pantalla-2026-03-05-a-las-11.48.15.png
END:VEVENT
END:VCALENDAR