BEGIN:VCALENDAR
VERSION:2.0
PRODID:-//Le Cool  Agenda Barcelona - ECPv6.3.2//NONSGML v1.0//EN
CALSCALE:GREGORIAN
METHOD:PUBLISH
X-ORIGINAL-URL:https://barcelona.lecool.com
X-WR-CALDESC:Eventos para Le Cool  Agenda Barcelona
REFRESH-INTERVAL;VALUE=DURATION:PT1H
X-Robots-Tag:noindex
X-PUBLISHED-TTL:PT1H
BEGIN:VTIMEZONE
TZID:Europe/Madrid
BEGIN:DAYLIGHT
TZOFFSETFROM:+0100
TZOFFSETTO:+0200
TZNAME:CEST
DTSTART:20260329T010000
END:DAYLIGHT
BEGIN:STANDARD
TZOFFSETFROM:+0200
TZOFFSETTO:+0100
TZNAME:CET
DTSTART:20261025T010000
END:STANDARD
END:VTIMEZONE
BEGIN:VEVENT
DTSTART;TZID=Europe/Madrid:20260419T080000
DTEND;TZID=Europe/Madrid:20260520T170000
DTSTAMP:20260419T202336
CREATED:20260330T142235Z
LAST-MODIFIED:20260413T203827Z
UID:210396-1776585600-1779296400@barcelona.lecool.com
SUMMARY:Tinc un bosc al cervell
DESCRIPTION:Las emociones son como un bosque: un ecosistema complejo donde conviven múltiples elementos cuyas raíces y ramas se entrelazan\, se nutren y\, a veces\, compiten entre sí. Es un espacio poderoso y frágil al mismo tiempo\, que necesita ser cuidado. \nLa dramaturga Guadalupe Sáez presenta Tinc un bosc al cervell\, una obra dirigida por Alícia Gorina que se estrena este jueves 9 de abril en la Sala Beckett. La historia se sitúa en un centro comercial y sigue a una madre y a su hijo mientras hacen cola para entrar en un castillo hinchable gigante. En medio de ese entorno saturado de ruido\, luces y personas\, la madre pierde de vista al niño durante un instante. Ese breve descuido actúa como detonante de una profunda inmersión en el pánico y la desorientación que atraviesa la protagonista. \nLa obra propone una experiencia poética y sensorial que combina el realismo de la situación con el universo más abstracto de las emociones internas. Guadalupe Sáez construye así una pieza sensible\, honesta y profunda\, que aborda temas universales como la pérdida\, la salud mental\, la desorientación vital o la idealización de la maternidad. \nDel 9 de abril al 10 de mayo\, un oso con sombrero rosa os espera para abriros las puertas de ese castillo hinchable y\, al mismo tiempo\, de ese bosque que habita en la mente de la protagonista. ¿Nos adentramos?
URL:https://barcelona.lecool.com/eventos/tinc-un-bosc-al-cervell/
CATEGORIES:Teatro
ATTACH;FMTTYPE=image/jpeg:https://barcelona.lecool.com/wp-content/uploads/2026/03/55127670642_9bd7bfe2a7_k-e1774880412847.jpg
END:VEVENT
END:VCALENDAR